BEGIN:VCALENDAR
VERSION:2.0
METHOD:PUBLISH
PRODID:-//Accessible Web Design//My Calendar//http://www.joedolson.com//v3.2.14//EN';
BEGIN:VEVENT
UID:162-155
LOCATION:Clarholz
SUMMARY:2. B-DRLT O19 (Clarholz)
DTSTAMP:20151024T000000
ORGANIZER;CN=t.engel:MAILTO:timon.engel@t-online.de
DTSTART:20151024T000000
DTEND:20151025T000000
CATEGORIES:Termine
URL;VALUE=URI:
DESCRIPTION;ENCODING=QUOTED-PRINTABLE: 
END:VEVENT
END:VCALENDAR